0.00008827000000
0.00000000000000
0.00000000000000
-0.00008827000000
39.95737642500000
10.71561318500000
