0.00009677000000
0.00000000000000
0.00000000000000
-0.00009677000000
-82.79019134500000
29.57582476500000
