!table
!version 300
!charset WindowsLatin1

Definition Table
  File "usa7.2004347.terra.721.250m.tif"
  Type "RASTER"
  (-96.4439,36.9407) (0,0) Label "Pt 1",
  (-81.185099413568,36.9407) (5199,0) Label "Pt 2",
  (-96.4439,23.453139417584) (0,5999) Label "Pt 3"
  CoordSys Earth Projection 1, 104
  Units "degree"
